BEGIN:VCALENDAR
VERSION:2.0
PRODID:-//jEvents 2.0 for Joomla//EN
CALSCALE:GREGORIAN
METHOD:PUBLISH
BEGIN:VTIMEZONE
TZID:Europe/Berlin
BEGIN:STANDARD
DTSTART:20191027T020000
RDATE:20200329T030000
TZOFFSETFROM:+0200
TZOFFSETTO:+0100
TZNAME:Europe/Berlin CET
END:STANDARD
BEGIN:STANDARD
DTSTART:20201025T020000
RDATE:20210328T030000
TZOFFSETFROM:+0200
TZOFFSETTO:+0100
TZNAME:Europe/Berlin CET
END:STANDARD
BEGIN:STANDARD
DTSTART:20211031T020000
RDATE:20220327T030000
TZOFFSETFROM:+0200
TZOFFSETTO:+0100
TZNAME:Europe/Berlin CET
END:STANDARD
BEGIN:STANDARD
DTSTART:20221030T020000
RDATE:20230326T030000
TZOFFSETFROM:+0200
TZOFFSETTO:+0100
TZNAME:Europe/Berlin CET
END:STANDARD
BEGIN:STANDARD
DTSTART:20231029T020000
RDATE:20240331T030000
TZOFFSETFROM:+0200
TZOFFSETTO:+0100
TZNAME:Europe/Berlin CET
END:STANDARD
BEGIN:STANDARD
DTSTART:20241027T020000
RDATE:20250330T030000
TZOFFSETFROM:+0200
TZOFFSETTO:+0100
TZNAME:Europe/Berlin CET
END:STANDARD
BEGIN:STANDARD
DTSTART:20251026T020000
RDATE:20260329T030000
TZOFFSETFROM:+0200
TZOFFSETTO:+0100
TZNAME:Europe/Berlin CET
END:STANDARD
BEGIN:STANDARD
DTSTART:20261025T020000
RDATE:20270328T030000
TZOFFSETFROM:+0200
TZOFFSETTO:+0100
TZNAME:Europe/Berlin CET
END:STANDARD
BEGIN:STANDARD
DTSTART:20271031T020000
RDATE:20280326T030000
TZOFFSETFROM:+0200
TZOFFSETTO:+0100
TZNAME:Europe/Berlin CET
END:STANDARD
BEGIN:STANDARD
DTSTART:20281029T020000
RDATE:20290325T030000
TZOFFSETFROM:+0200
TZOFFSETTO:+0100
TZNAME:Europe/Berlin CET
END:STANDARD
BEGIN:STANDARD
DTSTART:20291028T020000
RDATE:20300331T030000
TZOFFSETFROM:+0200
TZOFFSETTO:+0100
TZNAME:Europe/Berlin CET
END:STANDARD
BEGIN:STANDARD
DTSTART:20301027T020000
RDATE:20310330T030000
TZOFFSETFROM:+0200
TZOFFSETTO:+0100
TZNAME:Europe/Berlin CET
END:STANDARD
BEGIN:STANDARD
DTSTART:20311026T020000
RDATE:20320328T030000
TZOFFSETFROM:+0200
TZOFFSETTO:+0100
TZNAME:Europe/Berlin CET
END:STANDARD
BEGIN:DAYLIGHT
DTSTART:20190521T190000
RDATE:20191027T020000
TZOFFSETFROM:+0100
TZOFFSETTO:+0200
TZNAME:Europe/Berlin CEST
END:DAYLIGHT
BEGIN:DAYLIGHT
DTSTART:20200329T030000
RDATE:20201025T020000
TZOFFSETFROM:+0100
TZOFFSETTO:+0200
TZNAME:Europe/Berlin CEST
END:DAYLIGHT
BEGIN:DAYLIGHT
DTSTART:20210328T030000
RDATE:20211031T020000
TZOFFSETFROM:+0100
TZOFFSETTO:+0200
TZNAME:Europe/Berlin CEST
END:DAYLIGHT
BEGIN:DAYLIGHT
DTSTART:20220327T030000
RDATE:20221030T020000
TZOFFSETFROM:+0100
TZOFFSETTO:+0200
TZNAME:Europe/Berlin CEST
END:DAYLIGHT
BEGIN:DAYLIGHT
DTSTART:20230326T030000
RDATE:20231029T020000
TZOFFSETFROM:+0100
TZOFFSETTO:+0200
TZNAME:Europe/Berlin CEST
END:DAYLIGHT
BEGIN:DAYLIGHT
DTSTART:20240331T030000
RDATE:20241027T020000
TZOFFSETFROM:+0100
TZOFFSETTO:+0200
TZNAME:Europe/Berlin CEST
END:DAYLIGHT
BEGIN:DAYLIGHT
DTSTART:20250330T030000
RDATE:20251026T020000
TZOFFSETFROM:+0100
TZOFFSETTO:+0200
TZNAME:Europe/Berlin CEST
END:DAYLIGHT
BEGIN:DAYLIGHT
DTSTART:20260329T030000
RDATE:20261025T020000
TZOFFSETFROM:+0100
TZOFFSETTO:+0200
TZNAME:Europe/Berlin CEST
END:DAYLIGHT
BEGIN:DAYLIGHT
DTSTART:20270328T030000
RDATE:20271031T020000
TZOFFSETFROM:+0100
TZOFFSETTO:+0200
TZNAME:Europe/Berlin CEST
END:DAYLIGHT
BEGIN:DAYLIGHT
DTSTART:20280326T030000
RDATE:20281029T020000
TZOFFSETFROM:+0100
TZOFFSETTO:+0200
TZNAME:Europe/Berlin CEST
END:DAYLIGHT
BEGIN:DAYLIGHT
DTSTART:20290325T030000
RDATE:20291028T020000
TZOFFSETFROM:+0100
TZOFFSETTO:+0200
TZNAME:Europe/Berlin CEST
END:DAYLIGHT
BEGIN:DAYLIGHT
DTSTART:20300331T030000
RDATE:20301027T020000
TZOFFSETFROM:+0100
TZOFFSETTO:+0200
TZNAME:Europe/Berlin CEST
END:DAYLIGHT
BEGIN:DAYLIGHT
DTSTART:20310330T030000
RDATE:20311026T020000
TZOFFSETFROM:+0100
TZOFFSETTO:+0200
TZNAME:Europe/Berlin CEST
END:DAYLIGHT
END:VTIMEZONE
BEGIN:VEVENT
UID:ac74d3cfc4dc87be18b1766e77ed9fb3
CATEGORIES:Kein Spieltag
CREATED:20190830T145518
SUMMARY:Absage des Spieltages wegen Coronavirus SARS-CoV-2
LOCATION:: Ockershäuser Str. 71\, 35037 Marburg
DESCRIPTION:Absage des Spieltages wegen Coronavirus SARS-CoV-2:\n\nLiebe Freunde und Mi
 tglieder,\nleider hat sich an der Situation für den Verein nichts geändert,
  so dass auch im Mai alle Spieltage ausfallen werden.Sollte sich kurzfristi
 g etwas daran ändern, werden wir euch auf den üblichen Kanälen darüber info
 rmieren. MONSTER STACK - Sachpreisturnier Anmeldebeginn: 19:00 Uhr Turniers
 tart pünktlich um 19:30 Uhr\n \nWichtig !\nSpieler die sich bis 19:30 Uhr a
 ngemeldet haben und vor Ort sind erhalten \n3.000 Bonuschips.\nFür ausführl
 iche Infos bitte diesen Link klicken. (https://www.poker-club-marburg.de/fl
 yer/Monster_Stack.pdf) \n
X-ALT-DESC;FMTTYPE=text/html:<div class="jev_evdt_desc">Absage des Spieltages wegen Coronavirus SARS-CoV
 -2:<br /><br />Liebe Freunde und Mitglieder,<br />leider hat sich an der Si
 tuation für den Verein nichts geändert, so dass auch im Mai alle Spieltage 
 ausfallen werden.</div><div class="jev_evdt_desc">Sollte sich kurzfristig e
 twas daran ändern, werden wir euch auf den üblichen Kanälen darüber informi
 eren.</div><h1> </h1><h1>MONSTER STACK - Sachpreisturnier</h1><h1> </h1><p>
 Anmeldebeginn: 19:00 Uhr Turnierstart pünktlich um 19:30 Uhr</p><p><span st
 yle="font-family: 'Arial','sans-serif';"> </span></p><p class="MsoNormal"><
 b><u><span style="font-size: 14.0pt; font-family: 'Arial','sans-serif'; col
 or: red;">Wichtig !</span></u></b></p><p class="MsoNormal"><span style="fon
 t-family: 'Arial','sans-serif';">Spieler die sich bis <b>19:30 Uhr</b> ange
 meldet haben und vor Ort sind erhalten </span></p><p class="MsoNormal"><b><
 span style="font-family: 'Arial','sans-serif';">3.000 Bonuschips.</span></b
 ></p><h2><a title="BIG STACK" href="https://www.poker-club-marburg.de/flyer
 /Monster_Stack.pdf" target="_blank" rel="noopener noreferrer">Für ausführli
 che Infos bitte diesen Link klicken.</a></h2><p> </p>
CONTACT:Diese E-Mail-Adresse ist vor Spambots geschützt! Zur Anzeige muss JavaScript eingeschaltet sein.
X-EXTRAINFO:Ockershäuser Str. 71\n35037 Marburg\n\nBitte an der Straße parken.
DTSTAMP:20260422T141736
DTSTART;TZID=Europe/Berlin:20200521T190000
SEQUENCE:0
TRANSP:OPAQUE
END:VEVENT
END:VCALENDAR