BEGIN:VCALENDAR
VERSION:2.0
PRODID:-//jEvents 2.0 for Joomla//EN
CALSCALE:GREGORIAN
METHOD:PUBLISH
BEGIN:VTIMEZONE
TZID:Europe/Berlin
BEGIN:STANDARD
DTSTART:20211031T020000
RDATE:20220327T030000
TZOFFSETFROM:+0200
TZOFFSETTO:+0100
TZNAME:Europe/Berlin CET
END:STANDARD
BEGIN:STANDARD
DTSTART:20221030T020000
RDATE:20230326T030000
TZOFFSETFROM:+0200
TZOFFSETTO:+0100
TZNAME:Europe/Berlin CET
END:STANDARD
BEGIN:STANDARD
DTSTART:20231029T020000
RDATE:20240331T030000
TZOFFSETFROM:+0200
TZOFFSETTO:+0100
TZNAME:Europe/Berlin CET
END:STANDARD
BEGIN:STANDARD
DTSTART:20241027T020000
RDATE:20250330T030000
TZOFFSETFROM:+0200
TZOFFSETTO:+0100
TZNAME:Europe/Berlin CET
END:STANDARD
BEGIN:STANDARD
DTSTART:20251026T020000
RDATE:20260329T030000
TZOFFSETFROM:+0200
TZOFFSETTO:+0100
TZNAME:Europe/Berlin CET
END:STANDARD
BEGIN:STANDARD
DTSTART:20261025T020000
RDATE:20270328T030000
TZOFFSETFROM:+0200
TZOFFSETTO:+0100
TZNAME:Europe/Berlin CET
END:STANDARD
BEGIN:STANDARD
DTSTART:20271031T020000
RDATE:20280326T030000
TZOFFSETFROM:+0200
TZOFFSETTO:+0100
TZNAME:Europe/Berlin CET
END:STANDARD
BEGIN:STANDARD
DTSTART:20281029T020000
RDATE:20290325T030000
TZOFFSETFROM:+0200
TZOFFSETTO:+0100
TZNAME:Europe/Berlin CET
END:STANDARD
BEGIN:STANDARD
DTSTART:20291028T020000
RDATE:20300331T030000
TZOFFSETFROM:+0200
TZOFFSETTO:+0100
TZNAME:Europe/Berlin CET
END:STANDARD
BEGIN:STANDARD
DTSTART:20301027T020000
RDATE:20310330T030000
TZOFFSETFROM:+0200
TZOFFSETTO:+0100
TZNAME:Europe/Berlin CET
END:STANDARD
BEGIN:STANDARD
DTSTART:20311026T020000
RDATE:20320328T030000
TZOFFSETFROM:+0200
TZOFFSETTO:+0100
TZNAME:Europe/Berlin CET
END:STANDARD
BEGIN:DAYLIGHT
DTSTART:20210518T190000
RDATE:20211031T020000
TZOFFSETFROM:+0100
TZOFFSETTO:+0200
TZNAME:Europe/Berlin CEST
END:DAYLIGHT
BEGIN:DAYLIGHT
DTSTART:20220327T030000
RDATE:20221030T020000
TZOFFSETFROM:+0100
TZOFFSETTO:+0200
TZNAME:Europe/Berlin CEST
END:DAYLIGHT
BEGIN:DAYLIGHT
DTSTART:20230326T030000
RDATE:20231029T020000
TZOFFSETFROM:+0100
TZOFFSETTO:+0200
TZNAME:Europe/Berlin CEST
END:DAYLIGHT
BEGIN:DAYLIGHT
DTSTART:20240331T030000
RDATE:20241027T020000
TZOFFSETFROM:+0100
TZOFFSETTO:+0200
TZNAME:Europe/Berlin CEST
END:DAYLIGHT
BEGIN:DAYLIGHT
DTSTART:20250330T030000
RDATE:20251026T020000
TZOFFSETFROM:+0100
TZOFFSETTO:+0200
TZNAME:Europe/Berlin CEST
END:DAYLIGHT
BEGIN:DAYLIGHT
DTSTART:20260329T030000
RDATE:20261025T020000
TZOFFSETFROM:+0100
TZOFFSETTO:+0200
TZNAME:Europe/Berlin CEST
END:DAYLIGHT
BEGIN:DAYLIGHT
DTSTART:20270328T030000
RDATE:20271031T020000
TZOFFSETFROM:+0100
TZOFFSETTO:+0200
TZNAME:Europe/Berlin CEST
END:DAYLIGHT
BEGIN:DAYLIGHT
DTSTART:20280326T030000
RDATE:20281029T020000
TZOFFSETFROM:+0100
TZOFFSETTO:+0200
TZNAME:Europe/Berlin CEST
END:DAYLIGHT
BEGIN:DAYLIGHT
DTSTART:20290325T030000
RDATE:20291028T020000
TZOFFSETFROM:+0100
TZOFFSETTO:+0200
TZNAME:Europe/Berlin CEST
END:DAYLIGHT
BEGIN:DAYLIGHT
DTSTART:20300331T030000
RDATE:20301027T020000
TZOFFSETFROM:+0100
TZOFFSETTO:+0200
TZNAME:Europe/Berlin CEST
END:DAYLIGHT
BEGIN:DAYLIGHT
DTSTART:20310330T030000
RDATE:20311026T020000
TZOFFSETFROM:+0100
TZOFFSETTO:+0200
TZNAME:Europe/Berlin CEST
END:DAYLIGHT
END:VTIMEZONE
BEGIN:VEVENT
UID:6dfeb84d2197307d7f8b124fd0431e2c
CATEGORIES:MPC
CREATED:20220423T124504
SUMMARY:MPC 2022  - Tag 02 / 08
LOCATION::Ockershäuser Str. 71\, 35037 MarburgOckershäuser Str. 71\, 35037 Marburg
DESCRIPTION:MPC 2022!\n Anmeldebeginn: 19:00 Uhr Turnierstart pünktlich um 19:30 Uhr\n 
 \nWichtig !\n\nEine unverbindliche Voranmeldung (per Email an Diese E-Mail-
 Adresse ist vor Spambots geschützt! Zur Anzeige muss JavaScript eingeschalt
 et sein.), zur besseren Planung, ist wünschenswert.\n \n \nCorona Hygieneko
 nzept / Verhaltensregeln \n• Zutritt nur  \no Geimpft oder\no Genesen oder\
 nund Symptomfreiheit. \n \n\nBis wieder eine langfristige Planung möglich i
 st, werden wir wochenweise über den dann nächsten Spielabend auf folgenden 
 Plattformen informieren:\n- Unsere Webseite\n- Unsere Facebook Seite\n- Uns
 er WhatsApp Kanal\n\nEs möge sich bitte jede*r interessierte Spieler*in sel
 bständig informieren.\n\n \n \nFür ausführliche Infos bitte diesen Link kli
 cken. (https://www.poker-club-marburg.de/flyer/MPC_2022.pdf)
X-ALT-DESC;FMTTYPE=text/html:<h1>MPC 2022!<br /> </h1><p>Anmeldebeginn: 19:00 Uhr Turnierstart pünktlich
  um 19:30 Uhr</p><p><span style="font-family: 'Arial','sans-serif';"> </spa
 n></p><p><b><u><span style="font-size: 14.0pt; font-family: 'Arial','sans-s
 erif'; color: red;">Wichtig !</span></u></b><strong><br /><br /><span style
 ="text-decoration: underline;">Eine unverbindliche Voranmeldung (per Email 
 an <joomla-hidden-mail  is-link="1" is-email="1" first="aW5mbw==" last="cG9
 rZXItY2x1Yi1tYXJidXJnLmRl" text="aW5mb0Bwb2tlci1jbHViLW1hcmJ1cmcuZGU=" base
 ="" >Diese E-Mail-Adresse ist vor Spambots geschützt! Zur Anzeige muss Java
 Script eingeschaltet sein.</joomla-hidden-mail>), zur besseren Planung, ist
  wünschenswert.</span></strong></p><p> </p><p> </p><p><span style="font-siz
 e: 16.000000pt; font-family: 'Arial'; font-weight: bold; font-style: italic
 ; color: rgb(0.000000%, 0.000000%, 100.000000%);">Corona Hygienekonzept / V
 erhaltensregeln </span></p><div class="page" title="Page 3"><div class="lay
 outArea"><div class="column"><p><span style="font-size: 12.000000pt; font-f
 amily: 'SymbolMT';">• </span><span style="font-size: 12.000000pt; font-fami
 ly: 'ArialMT';">Zutritt nur  </span></p><p><span style="font-size: 12.00000
 0pt; font-family: 'CourierNewPSMT';">o </span><span style="font-size: 12.00
 0000pt; font-family: 'Arial'; font-weight: bold;">Geimpft </span><span styl
 e="font-size: 12.000000pt; font-family: 'ArialMT';">oder</span></p><p><span
  style="font-size: 12.000000pt; font-family: 'CourierNewPSMT';">o </span><s
 pan style="font-size: 12.000000pt; font-family: 'Arial'; font-weight: bold;
 ">Genesen </span><span style="font-size: 12.000000pt; font-family: 'ArialMT
 ';">oder</span></p><p><span style="font-size: 12.000000pt; font-family: 'Ar
 ialMT';">und </span><span style="font-size: 12.000000pt; font-family: 'Aria
 l'; font-weight: bold;">Symptomfreiheit</span><span style="font-size: 12.00
 0000pt; font-family: 'ArialMT';">. </span></p></div></div></div><p> </p><p>
 <strong><br />Bis wieder eine langfristige Planung möglich ist, werden wir 
 wochenweise über den dann nächsten Spielabend auf folgenden Plattformen inf
 ormieren:<br />- Unsere Webseite<br />- Unsere Facebook Seite<br />- Unser 
 WhatsApp Kanal<br /><br />Es möge sich bitte jede*r interessierte Spieler*i
 n selbständig informieren.<br /></strong></p><p> </p><p> </p><h3><a title="
 MPC 2022" href="https://www.poker-club-marburg.de/flyer/MPC_2022.pdf" targe
 t="_blank" rel="noopener noreferrer">Für ausführliche Infos bitte diesen Li
 nk klicken.</a></h3>
CONTACT:Diese E-Mail-Adresse ist vor Spambots geschützt! Zur Anzeige muss JavaScript eingeschaltet sein.
X-EXTRAINFO:Ockershäuser Str. 71\n35037 Marburg\n\nBitte an der Straße parken.
DTSTAMP:20260419T140938
DTSTART;TZID=Europe/Berlin:20220519T190000
SEQUENCE:0
TRANSP:OPAQUE
END:VEVENT
END:VCALENDAR